BEGIN:VCALENDAR
VERSION:2.0
PRODID:icalendar-ruby
CALSCALE:GREGORIAN
METHOD:PUBLISH
BEGIN:VEVENT
DTSTAMP:20260421T090317Z
UID:7-223405@myfpcc.org
DTSTART:20260705T150000Z
DTEND:20260705T160000Z
CLASS:PUBLIC
CREATED:20260420T204157
DESCRIPTION:Sunday Service
LAST-MODIFIED:20260420T204157
LOCATION:215 Jacobs Hwy Clinton\, SC 29325
SUMMARY:Sunday Service
URL;VALUE=URI:https://www.myfpcc.org/events/sunday-service/2026-07-05
END:VEVENT
END:VCALENDAR
