BEGIN:VCALENDAR
VERSION:2.0
PRODID:icalendar-ruby
CALSCALE:GREGORIAN
METHOD:PUBLISH
BEGIN:VEVENT
DTSTAMP:20260421T135552Z
UID:7-223556@myfpcc.org
DTSTART:20260726T150000Z
DTEND:20260726T160000Z
CLASS:PUBLIC
CREATED:20260421T074832
DESCRIPTION:Sunday Service
LAST-MODIFIED:20260421T074832
LOCATION:215 Jacobs Hwy Clinton\, SC 29325
SUMMARY:Sunday Service
URL;VALUE=URI:https://www.myfpcc.org/events/sunday-service/2026-07-26
END:VEVENT
END:VCALENDAR
