BEGIN:VCALENDAR
VERSION:2.0
PRODID:icalendar-ruby
CALSCALE:GREGORIAN
METHOD:PUBLISH
BEGIN:VEVENT
DTSTAMP:20260421T190809Z
UID:7-223855@myfpcc.org
DTSTART:20260816T150000Z
DTEND:20260816T160000Z
CLASS:PUBLIC
CREATED:20260421T130323
DESCRIPTION:Sunday Service
LAST-MODIFIED:20260421T130323
LOCATION:215 Jacobs Hwy Clinton\, SC 29325
SUMMARY:Sunday Service
URL;VALUE=URI:https://www.myfpcc.org/events/sunday-service/2026-08-16
END:VEVENT
END:VCALENDAR
