BEGIN:VCALENDAR
VERSION:2.0
PRODID:icalendar-ruby
CALSCALE:GREGORIAN
METHOD:PUBLISH
BEGIN:VEVENT
DTSTAMP:20260421T231130Z
UID:7-224153@myfpcc.org
DTSTART:20260830T150000Z
DTEND:20260830T160000Z
CLASS:PUBLIC
CREATED:20260421T181748
DESCRIPTION:Sunday Service
LAST-MODIFIED:20260421T181748
LOCATION:215 Jacobs Hwy Clinton\, SC 29325
SUMMARY:Sunday Service
URL;VALUE=URI:https://www.myfpcc.org/events/sunday-service/2026-08-30
END:VEVENT
END:VCALENDAR
