BEGIN:VCALENDAR
VERSION:2.0
PRODID:icalendar-ruby
CALSCALE:GREGORIAN
METHOD:PUBLISH
BEGIN:VEVENT
DTSTAMP:20260422T125812Z
UID:7-224456@myfpcc.org
DTSTART:20261018T150000Z
DTEND:20261018T160000Z
CLASS:PUBLIC
CREATED:20260422T080057
DESCRIPTION:Sunday Service
LAST-MODIFIED:20260422T080057
LOCATION:215 Jacobs Hwy Clinton\, SC 29325
SUMMARY:Sunday Service
URL;VALUE=URI:https://www.myfpcc.org/events/sunday-service/2026-10-18
END:VEVENT
END:VCALENDAR
